Workbook

Sheet Spotřeba vody
A1: =[1]Seznam!A1 -> Číslo bytu | B1: =[1]Seznam!B1 -> Celé jméno | C1: Poč. bydlících | D1: =Odečty!E1 -> 2016 | E1: =Odečty!F1 -> 2017 | F1: Spotřeba na osobu
A2: =[1]Seznam!A2 -> 1 | B2: =[1]Seznam!B2 -> Podzimková Andrea | C2: =SUM(INDIRECT(ADDRESS(MATCH(TEXT($A2,"000"),'Počet osob'!D$2:D200,0)+1,13,1,,"Počet osob")):INDIRECT(ADDRESS(MATCH(TEXT($A2,"000"),'Počet osob'!D$2:D200,0)+1,35,1,,"Počet osob")))/12 -> 3 | D2: =Odečty!E2-Odečty!D2 -> 39 | E2: =Odečty!F2-Odečty!E2 -> 64 | F2: =E2/$C2 -> 21.333333
A3: =[1]Seznam!A3 -> 2 | B3: =[1]Seznam!B3 -> Buřič Miroslav, Ing. | C3: =SUM(INDIRECT(ADDRESS(MATCH(TEXT($A3,"000"),'Počet osob'!D$2:D201,0)+1,13,1,,"Počet osob")):INDIRECT(ADDRESS(MATCH(TEXT($A3,"000"),'Počet osob'!D$2:D201,0)+1,35,1,,"Počet osob")))/12 -> 5 | D3: =Odečty!E3-Odečty!D3 -> 182 | E3: =Odečty!F3-Odečty!E3 -> 222 | F3: =E3/$C3 -> 44.4
A4: =[1]Seznam!A4 -> 3 | B4: =[1]Seznam!B4 -> Faltus Libor, Ing. | C4: =SUM(INDIRECT(ADDRESS(MATCH(TEXT($A4,"000"),'Počet osob'!D$2:D202,0)+1,13,1,,"Počet osob")):INDIRECT(ADDRESS(MATCH(TEXT($A4,"000"),'Počet osob'!D$2:D202,0)+1,35,1,,"Počet osob")))/12 -> 2 | D4: =Odečty!E4-Odečty!D4 -> 137 | E4: =Odečty!F4-Odečty!E4 -> 147 | F4: =E4/$C4 -> 73.5
A5: =[1]Seznam!A5 -> 4 | B5: =[1]Seznam!B5 -> Švadlenka Petr | C5: =SUM(INDIRECT(ADDRESS(MATCH(TEXT($A5,"000"),'Počet osob'!D$2:D203,0)+1,13,1,,"Počet osob")):INDIRECT(ADDRESS(MATCH(TEXT($A5,"000"),'Počet osob'!D$2:D203,0)+1,35,1,,"Počet osob")))/12 -> 1 | D5: =Odečty!E5-Odečty!D5 -> 34 | E5: =Odečty!F5-Odečty!E5 -> 21 | F5: =E5/$C5 -> 21
A6: =[1]Seznam!A6 -> 5 | B6: =[1]Seznam!B6 -> Havelka Antonín, Ing. | C6: =SUM(INDIRECT(ADDRESS(MATCH(TEXT($A6,"000"),'Počet osob'!D$2:D204,0)+1,13,1,,"Počet osob")):INDIRECT(ADDRESS(MATCH(TEXT($A6,"000"),'Počet osob'!D$2:D204,0)+1,35,1,,"Počet osob")))/12 -> 4 | D6: =Odečty!E6-Odečty!D6 -> 121 | E6: =Odečty!F6-Odečty!E6 -> 130 | F6: =E6/$C6 -> 32.5
A7: =[1]Seznam!A7 -> 6 | B7: =[1]Seznam!B7 -> Konečná Kateřina | C7: =SUM(INDIRECT(ADDRESS(MATCH(TEXT($A7,"000"),'Počet osob'!D$2:D205,0)+1,13,1,,"Počet osob")):INDIRECT(ADDRESS(MATCH(TEXT($A7,"000"),'Počet osob'!D$2:D205,0)+1,35,1,,"Počet osob")))/12 -> 3 | D7: =Odečty!E7-Odečty!D7 -> 117 | E7: =Odečty!F7-Odečty!E7 -> 110 | F7: =E7/$C7 -> 36.666667
A8: =[1]Seznam!A8 -> 7 | B8: =[1]Seznam!B8 -> Pacovský Jan, Ing. | C8: =SUM(INDIRECT(ADDRESS(MATCH(TEXT($A8,"000"),'Počet osob'!D$2:D206,0)+1,13,1,,"Počet osob")):INDIRECT(ADDRESS(MATCH(TEXT($A8,"000"),'Počet osob'!D$2:D206,0)+1,35,1,,"Počet osob")))/12 -> 4 | D8: =Odečty!E8-Odečty!D8 -> 120 | E8: =Odečty!F8-Odečty!E8 -> 114 | F8: =E8/$C8 -> 28.5
B10: Dle domovního vodoměru | E10: =Odečty!F9-Odečty!E9 -> 1001
B11: Rozdíl domovní - součet bytových | E11: =E10-SUM(E2:E8) -> 193
B12: Rozdíl v procentech | E12: =E11/E10 -> 0.19280719
B14: Spotřeba vody je v m³ (=1000 L) v uvedeném roce.
B15: Průměrný počet osob a spotřeba na osobu je za poslední rok.

Sheet Odečty
A1: =[1]Seznam!A1 -> Číslo bytu | B1: =[1]Seznam!B1 -> Celé jméno | C1: Číslo vodoměru | D1: 2015 | E1: =D1+1 -> 2016 | F1: =E1+1 -> 2017
A2: =[1]Seznam!A2 -> 1 | B2: =[1]Seznam!B2 -> Podzimková Andrea | C2: 1 | D2: 85 | E2: 124 | F2: 188
A3: =[1]Seznam!A3 -> 2 | B3: =[1]Seznam!B3 -> Buřič Miroslav, Ing. | C3: 2 | D3: 253 | E3: 435 | F3: 657
A4: =[1]Seznam!A4 -> 3 | B4: =[1]Seznam!B4 -> Faltus Libor, Ing. | C4: 3 | D4: 165 | E4: 302 | F4: 449
A5: =[1]Seznam!A5 -> 4 | B5: =[1]Seznam!B5 -> Švadlenka Petr | C5: 4 | D5: 50 | E5: 84 | F5: 105
A6: =[1]Seznam!A6 -> 5 | B6: =[1]Seznam!B6 -> Havelka Antonín, Ing. | C6: 5 | D6: 180 | E6: 301 | F6: 431
A7: =[1]Seznam!A7 -> 6 | B7: =[1]Seznam!B7 -> Konečná Kateřina | C7: 6 | D7: 174 | E7: 291 | F7: 401
A8: =[1]Seznam!A8 -> 7 | B8: =[1]Seznam!B8 -> Pacovský Jan, Ing. | C8: 7 | D8: 151 | E8: 271 | F8: 385
B9: Domovní | E9: 1824 | F9: 2825

Sheet SSB
A1: identcislo | B1: datodectu | C1: odecet | D1: kliccp | E1: cispopisne | F1: byt | G1: mistnost | H1: subjekt | I1: jmeno | J1: minodecet | K1: datminodec | L1: dat_vyraz
A2: 1 | B2: 43100 | C2: 124 | D2: 00000630 | E2: 630 | F2: 001 | H2: C | L2: - -
A3: 2 | B3: 43100 | C3: 435 | D3: 00000630 | E3: 630 | F3: 002 | H3: C | L3: - -
A4: 3 | B4: 43100 | C4: 302 | D4: 00000630 | E4: 630 | F4: 003 | H4: C | L4: - -
A5: 4 | B5: 43100 | C5: 84 | D5: 00000630 | E5: 630 | F5: 004 | H5: C | L5: - -
A6: 5 | B6: 43100 | C6: 301 | D6: 00000630 | E6: 630 | F6: 005 | H6: C | L6: - -
A7: 6 | B7: 43100 | C7: 291 | D7: 00000630 | E7: 630 | F7: 006 | H7: C | L7: - -
A8: 7 | B8: 43100 | C8: 271 | D8: 00000630 | E8: 630 | F8: 007 | H8: C | L8: - -

Sheet Počet osob
A1: ko | B1: kc | C1: cp | D1: cb | E1: cx | F1: typ | G1: od_dne | H1: do_dne | I1: obd_od | J1: obd_do | K1: jmeno | L1: id | M1: mes01 | N1: dni01 | O1: mes02 | P1: dni02 | Q1: mes03 | R1: dni03 | S1: mes04 | T1: dni04 | U1: mes05 | V1: dni05 | W1: mes06 | X1: dni06 | Y1: mes07 | Z1: dni07 | AA1: mes08 | AB1: dni08 | AC1: mes09 | AD1: dni09 | AE1: mes10 | AF1: dni10 | AG1: mes11 | AH1: dni11 | AI1: mes12 | AJ1: dni12 | AK1: zaradit_ja | AL1: ulice | AM1: cispopisne | AN1: co
A2: 00 | B2: 00 | C2: 0630 | D2: 001 | G2: - - | H2: - - | L2: 0 | M2: 3 | N2: 0 | O2: 3 | P2: 0 | Q2: 3 | R2: 0 | S2: 3 | T2: 0 | U2: 3 | V2: 0 | W2: 3 | X2: 0 | Y2: 3 | Z2: 0 | AA2: 3 | AB2: 0 | AC2: 3 | AD2: 0 | AE2: 3 | AF2: 0 | AG2: 3 | AH2: 0 | AI2: 3 | AJ2: 0 | AL2: Světská | AM2: 630 | AN2: 19
A3: 00 | B3: 00 | C3: 0630 | D3: 001 | E3: 01 | F3: C | G3: 42736 | H3: 43100 | I3: 01 | J3: 12 | L3: 2 | M3: 3 | N3: 31 | O3: 3 | P3: 28 | Q3: 3 | R3: 31 | S3: 3 | T3: 30 | U3: 3 | V3: 31 | W3: 3 | X3: 30 | Y3: 3 | Z3: 31 | AA3: 3 | AB3: 31 | AC3: 3 | AD3: 30 | AE3: 3 | AF3: 31 | AG3: 3 | AH3: 30 | AI3: 3 | AJ3: 31 | AK3: Podzimková Andrea | AL3: Světská | AM3: 630 | AN3: 19
A4: 00 | B4: 00 | C4: 0630 | D4: 002 | G4: - - | H4: - - | L4: 0 | M4: 5 | N4: 0 | O4: 5 | P4: 0 | Q4: 5 | R4: 0 | S4: 5 | T4: 0 | U4: 5 | V4: 0 | W4: 5 | X4: 0 | Y4: 5 | Z4: 0 | AA4: 5 | AB4: 0 | AC4: 5 | AD4: 0 | AE4: 5 | AF4: 0 | AG4: 5 | AH4: 0 | AI4: 5 | AJ4: 0 | AL4: Světská | AM4: 630 | AN4: 19
A5: 00 | B5: 00 | C5: 0630 | D5: 002 | E5: 01 | F5: C | G5: 42736 | H5: 43100 | I5: 01 | J5: 12 | L5: 3 | M5: 5 | N5: 31 | O5: 5 | P5: 28 | Q5: 5 | R5: 31 | S5: 5 | T5: 30 | U5: 5 | V5: 31 | W5: 5 | X5: 30 | Y5: 5 | Z5: 31 | AA5: 5 | AB5: 31 | AC5: 5 | AD5: 30 | AE5: 5 | AF5: 31 | AG5: 5 | AH5: 30 | AI5: 5 | AJ5: 31 | AK5: Buřič Miroslav | AL5: Světská | AM5: 630 | AN5: 19
A6: 00 | B6: 00 | C6: 0630 | D6: 003 | G6: - - | H6: - - | L6: 0 | M6: 2 | N6: 0 | O6: 2 | P6: 0 | Q6: 2 | R6: 0 | S6: 2 | T6: 0 | U6: 2 | V6: 0 | W6: 2 | X6: 0 | Y6: 2 | Z6: 0 | AA6: 2 | AB6: 0 | AC6: 2 | AD6: 0 | AE6: 2 | AF6: 0 | AG6: 2 | AH6: 0 | AI6: 2 | AJ6: 0 | AL6: Světská | AM6: 630 | AN6: 19
A7: 00 | B7: 00 | C7: 0630 | D7: 003 | E7: 01 | F7: C | G7: 42736 | H7: 43100 | I7: 01 | J7: 12 | L7: 4 | M7: 2 | N7: 31 | O7: 2 | P7: 28 | Q7: 2 | R7: 31 | S7: 2 | T7: 30 | U7: 2 | V7: 31 | W7: 2 | X7: 30 | Y7: 2 | Z7: 31 | AA7: 2 | AB7: 31 | AC7: 2 | AD7: 30 | AE7: 2 | AF7: 31 | AG7: 2 | AH7: 30 | AI7: 2 | AJ7: 31 | AK7: Faltus Libor | AL7: Světská | AM7: 630 | AN7: 19
A8: 00 | B8: 00 | C8: 0630 | D8: 004 | G8: - - | H8: - - | L8: 0 | M8: 1 | N8: 0 | O8: 1 | P8: 0 | Q8: 1 | R8: 0 | S8: 1 | T8: 0 | U8: 1 | V8: 0 | W8: 1 | X8: 0 | Y8: 1 | Z8: 0 | AA8: 1 | AB8: 0 | AC8: 1 | AD8: 0 | AE8: 1 | AF8: 0 | AG8: 1 | AH8: 0 | AI8: 1 | AJ8: 0 | AL8: Světská | AM8: 630 | AN8: 19
A9: 00 | B9: 00 | C9: 0630 | D9: 004 | E9: 01 | F9: C | G9: 42736 | H9: 43100 | I9: 01 | J9: 12 | L9: 5 | M9: 1 | N9: 31 | O9: 1 | P9: 28 | Q9: 1 | R9: 31 | S9: 1 | T9: 30 | U9: 1 | V9: 31 | W9: 1 | X9: 30 | Y9: 1 | Z9: 31 | AA9: 1 | AB9: 31 | AC9: 1 | AD9: 30 | AE9: 1 | AF9: 31 | AG9: 1 | AH9: 30 | AI9: 1 | AJ9: 31 | AK9: Švadlenka Petr | AL9: Světská | AM9: 630 | AN9: 19
A10: 00 | B10: 00 | C10: 0630 | D10: 005 | G10: - - | H10: - - | L10: 0 | M10: 4 | N10: 0 | O10: 4 | P10: 0 | Q10: 4 | R10: 0 | S10: 4 | T10: 0 | U10: 4 | V10: 0 | W10: 4 | X10: 0 | Y10: 4 | Z10: 0 | AA10: 4 | AB10: 0 | AC10: 4 | AD10: 0 | AE10: 4 | AF10: 0 | AG10: 4 | AH10: 0 | AI10: 4 | AJ10: 0 | AL10: Světská | AM10: 630 | AN10: 19
A11: 00 | B11: 00 | C11: 0630 | D11: 005 | E11: 01 | F11: C | G11: 42736 | H11: 43100 | I11: 01 | J11: 12 | L11: 6 | M11: 4 | N11: 31 | O11: 4 | P11: 28 | Q11: 4 | R11: 31 | S11: 4 | T11: 30 | U11: 4 | V11: 31 | W11: 4 | X11: 30 | Y11: 4 | Z11: 31 | AA11: 4 | AB11: 31 | AC11: 4 | AD11: 30 | AE11: 4 | AF11: 31 | AG11: 4 | AH11: 30 | AI11: 4 | AJ11: 31 | AK11: Havelka Antonín | AL11: Světská | AM11: 630 | AN11: 19
A12: 00 | B12: 00 | C12: 0630 | D12: 006 | G12: - - | H12: - - | L12: 0 | M12: 3 | N12: 0 | O12: 3 | P12: 0 | Q12: 3 | R12: 0 | S12: 3 | T12: 0 | U12: 3 | V12: 0 | W12: 3 | X12: 0 | Y12: 3 | Z12: 0 | AA12: 3 | AB12: 0 | AC12: 3 | AD12: 0 | AE12: 3 | AF12: 0 | AG12: 3 | AH12: 0 | AI12: 3 | AJ12: 0 | AL12: Světská | AM12: 630 | AN12: 19
A13: 00 | B13: 00 | C13: 0630 | D13: 006 | E13: 01 | F13: C | G13: 42736 | H13: 43100 | I13: 01 | J13: 12 | L13: 7 | M13: 3 | N13: 31 | O13: 3 | P13: 28 | Q13: 3 | R13: 31 | S13: 3 | T13: 30 | U13: 3 | V13: 31 | W13: 3 | X13: 30 | Y13: 3 | Z13: 31 | AA13: 3 | AB13: 31 | AC13: 3 | AD13: 30 | AE13: 3 | AF13: 31 | AG13: 3 | AH13: 30 | AI13: 3 | AJ13: 31 | AK13: Hladík Jiří | AL13: Světská | AM13: 630 | AN13: 19
A14: 00 | B14: 00 | C14: 0630 | D14: 007 | G14: - - | H14: - - | L14: 0 | M14: 4 | N14: 0 | O14: 4 | P14: 0 | Q14: 4 | R14: 0 | S14: 4 | T14: 0 | U14: 4 | V14: 0 | W14: 4 | X14: 0 | Y14: 4 | Z14: 0 | AA14: 4 | AB14: 0 | AC14: 4 | AD14: 0 | AE14: 4 | AF14: 0 | AG14: 4 | AH14: 0 | AI14: 4 | AJ14: 0 | AL14: Světská | AM14: 630 | AN14: 19
A15: 00 | B15: 00 | C15: 0630 | D15: 007 | E15: 01 | F15: C | G15: 42736 | H15: 43100 | I15: 01 | J15: 12 | L15: 8 | M15: 4 | N15: 31 | O15: 4 | P15: 28 | Q15: 4 | R15: 31 | S15: 4 | T15: 30 | U15: 4 | V15: 31 | W15: 4 | X15: 30 | Y15: 4 | Z15: 31 | AA15: 4 | AB15: 31 | AC15: 4 | AD15: 30 | AE15: 4 | AF15: 31 | AG15: 4 | AH15: 30 | AI15: 4 | AJ15: 31 | AK15: Pacovský Jan | AL15: Světská | AM15: 630 | AN15: 19
